BEGIN:VCALENDAR
VERSION:2.0
PRODID:icalendar-ruby
CALSCALE:GREGORIAN
METHOD:PUBLISH
BEGIN:VEVENT
DTSTAMP:20260423T015907Z
UID:587-4137@redemptionhillnm.org
DTSTART:20260613T163000Z
DTEND:20260613T203000Z
CLASS:PUBLIC
CREATED:20260305T185349
DESCRIPTION:Jesus commanded his disciples to make disciples and to baptize 
 them in the name of the Father\, the Son\, and the Holy Spirit. On Saturda
 y\, June 14th\, we are going to do just that as well as enjoy a potluck/co
 okout celebration at the Jemez Falls Picnic Area.   Make plans to join us
  for this blessed time of celebration in the Jemez Mountains.  \nIf have 
 not been baptized as a born-again believer in Jesus Christ\, and would lik
 e to be\, please talk to Pastor Mike or Lee.  We would love to see you fo
 llow Jesus' command to make this public profession of faith.  \nClick Her
 e for Directions\n 
LAST-MODIFIED:20260305T185349
LOCATION:Jemez Falls Picnic Area | Jemez Falls Campground
SUMMARY:Jemez Falls Baptism
URL;VALUE=URI:https://redemptionhillnm.org/events/jemez-falls-baptism--587/
 2026-06-13
ATTACH;FILENAME=Slide5.jpeg;FMTTYPE=image/jpeg:https://dq5pwpg1q8ru0.cloudf
 ront.net/2026/03/06/01/47/37/87c6f858-59de-4172-880b-d401e4c651f7/Slide5.j
 peg
END:VEVENT
END:VCALENDAR
