BEGIN:VCALENDAR
VERSION:2.0
PRODID:icalendar-ruby
CALSCALE:GREGORIAN
METHOD:PUBLISH
BEGIN:VEVENT
DTSTAMP:20260423T002901Z
UID:595-4145@redemptionhillnm.org
DTSTART:20260507T130000Z
DTEND:20260508T010000Z
CLASS:PUBLIC
CREATED:20260416T094700
DESCRIPTION:Join us at Redemption Hill on the National Day of Prayer to pra
 yer for the needs of our nation\, church\, local community\, and the world
 .  Our goal is to have people praying at the church building every hour b
 etween 7:00AM and 7:00PM on Thursday\, May 7th.  Sign up at the church to
  commit to joining us for one (or more) of the hour time slots.  We look 
 forward to praying with you!
LAST-MODIFIED:20260416T094700
LOCATION:Redemption Hill Church | 9674 Eagle Ranch Rd NW\, Albuquerque\, NM
  87114
SUMMARY:National Day of Prayer | Prayer Meeting
URL;VALUE=URI:https://redemptionhillnm.org/events/national-day-of-prayer-pr
 ayer-meeting/2026-05-07
ATTACH;FILENAME=National-Day-of-Prayer-2026.jpg;FMTTYPE=image/jpeg:https://
 dq5pwpg1q8ru0.cloudfront.net/2026/04/16/15/47/00/86dd9f89-9741-4c88-a04d-8
 ad85e8cf14e/National-Day-of-Prayer-2026.jpg
END:VEVENT
END:VCALENDAR
