BEGIN:VCALENDAR
VERSION:2.0
PRODID:icalendar-ruby
CALSCALE:GREGORIAN
METHOD:PUBLISH
BEGIN:VEVENT
DTSTAMP:20260423T002911Z
UID:593-4143@redemptionhillnm.org
DTSTART:20260426T190000Z
DTEND:20260426T203000Z
CLASS:PUBLIC
CREATED:20260409T095404
DESCRIPTION:\n\nHave you recently made Redemption Hill your church home?  
 Join us on Sunday\, April 26th at 1:00 pm for lunch with the pastors and o
 ther Redemption Hill leaders and congregants to get to know us better.  B
 ring your appetite and your questions.  We look forward to seeing you the
 re.\n\n
LAST-MODIFIED:20260409T095404
LOCATION:Redemption Hill Church | 9674 Eagle Ranch Rd NW\, Albuquerque\, NM
  87114
SUMMARY:Newcomers' Lunch with the Pastors
URL;VALUE=URI:https://redemptionhillnm.org/events/newcomers-lunch-with-the-
 pastors--593/2026-04-26
ATTACH;FILENAME=Newcomers-Lunch-2026.04.26.jpeg;FMTTYPE=image/jpeg:https://
 dq5pwpg1q8ru0.cloudfront.net/2026/04/09/15/54/03/78e498e4-32b3-4b57-885a-f
 dbaabf1cf97/Newcomers-Lunch-2026.04.26.jpeg
END:VEVENT
END:VCALENDAR
